BEGIN:VCALENDAR
VERSION:2.0
PRODID:-//Twin Ports Nightlife//NONSGML kigkonsult.se iCalcreator 2.41.92//
CALSCALE:GREGORIAN
METHOD:PUBLISH
UID:33333464-3536-4562-b566-353662326631
X-WR-CALNAME:iCagenda
X-WR-CALDESC:Event Management Extension for Joomla!
X-WR-RELCALID:3E26604A-50F4-4449-8B3E-E4F4932D05B5
X-WR-TIMEZONE:UTC
BEGIN:VTIMEZONE
TZID:UTC
END:VTIMEZONE
BEGIN:VEVENT
UID:31643335-6236-4066-a439-643632646130
DTSTAMP:20260425T125434Z
CATEGORIES:Live Music
CLASS:PUBLIC
DESCRIPTION;ALTREP="CID:<FFFF__=0ABBE548DFE235B58f9e8a93d@coffeebean.com>":
 \n\n\n\n\nUMD Techno Club is once again bringing Latin Night to the Flame 
 Nightclub! Oscat will be bringing his signature sound north to share with 
 us alongside techno club residents Bosco\, Finder and Porb! It's going to 
 be 🔥!\n\n\n\n
DTSTART:20260425T210000Z
DTEND:20260425T210000Z
GEO:00;0
LOCATION:The Flame Nightclub - Duluth
ORGANIZER:
SEQUENCE:1
SUMMARY:UMD Techno Club's Latin Night Part 2!
TRANSP:OPAQUE
URL:https://twinportsnightlife.com/music/105-umd-techno-clubs-latin-night-p
 art-2/2026-04-25-21-00?layout=vcal
END:VEVENT
END:VCALENDAR
