BEGIN:VCALENDAR
VERSION:2.0
PRODID:-//Twin Ports Nightlife//NONSGML kigkonsult.se iCalcreator 2.41.92//
CALSCALE:GREGORIAN
METHOD:PUBLISH
UID:33323137-3134-4330-b564-386538313639
X-WR-CALNAME:iCagenda
X-WR-CALDESC:Event Management Extension for Joomla!
X-WR-RELCALID:3E26604A-50F4-4449-8B3E-E4F4932D05B5
X-WR-TIMEZONE:UTC
BEGIN:VTIMEZONE
TZID:UTC
END:VTIMEZONE
BEGIN:VEVENT
UID:66306230-3461-4532-b064-343633306131
DTSTAMP:20260420T072334Z
CATEGORIES:Comedy
CLASS:PUBLIC
DESCRIPTION;ALTREP="CID:<FFFF__=0ABBE548DFE235B58f9e8a93d@coffeebean.com>":
 A new month means a new Twin Ports Comedy showcase! Local favorite Emily R
 ocks joins us as a guest host for feature Steph Rossell and hilarious head
 liner Wayne Burfeind!\n \nTickets available here: https://www.twinportscom
 edy.com/.../twin-ports-comedy...\n \nDoors: 6pm · Show: 7pm\n \n$15 · 21+
DTSTART:20260516T190000Z
DTEND:20260516T210000Z
GEO:00;0
LOCATION:The Caddy Shack Indoor Golf & Pub
ORGANIZER;CN=:mailto:info@caddyshackduluth.com
SEQUENCE:1
SUMMARY:Twin Ports Comedy: May Showcase
TRANSP:OPAQUE
URL:https://twinportsnightlife.com/the-nightlife/calendar/100-twin-ports-co
 medy-may-showcase/2026-05-16-19-00
END:VEVENT
END:VCALENDAR
