BEGIN:VCALENDAR
VERSION:2.0
PRODID:-//Twin Ports Nightlife//NONSGML kigkonsult.se iCalcreator 2.41.92//
CALSCALE:GREGORIAN
METHOD:PUBLISH
UID:66633534-6161-4664-b635-336365313131
X-WR-CALNAME:iCagenda
X-WR-CALDESC:Event Management Extension for Joomla!
X-WR-RELCALID:3E26604A-50F4-4449-8B3E-E4F4932D05B5
X-WR-TIMEZONE:UTC
BEGIN:VTIMEZONE
TZID:UTC
END:VTIMEZONE
BEGIN:VEVENT
UID:32623132-3365-4666-a234-356430633630
DTSTAMP:20260420T054446Z
CATEGORIES:Live Music
CLASS:PUBLIC
DESCRIPTION;ALTREP="CID:<FFFF__=0ABBE548DFE235B58f9e8a93d@coffeebean.com>":
 Solomon Witherspoon playing at Snively's Lounge!Join us every Wednesday ni
 ght for a special performance with the soulful Solomon.1/2 off bottles of 
 wine | 3pm - 10pm
DTSTART:20260429T183000Z
DTEND:20260429T213000Z
GEO:00;0
LOCATION:Snively's Lounge
ORGANIZER;CN=:mailto:info@snivelyslounge.com
SEQUENCE:1
SUMMARY:Live Music | Solomon Witherspoon
TRANSP:OPAQUE
URL:https://twinportsnightlife.com/the-nightlife/calendar/101-live-music-so
 lomon-witherspoon/2026-04-29-18-30
END:VEVENT
END:VCALENDAR
