BEGIN:VCALENDAR
VERSION:2.0
PRODID:-//Twin Ports Nightlife//NONSGML kigkonsult.se iCalcreator 2.41.92//
CALSCALE:GREGORIAN
METHOD:PUBLISH
UID:38623038-6337-4366-b661-646266356532
X-WR-CALNAME:iCagenda
X-WR-CALDESC:Event Management Extension for Joomla!
X-WR-RELCALID:3E26604A-50F4-4449-8B3E-E4F4932D05B5
X-WR-TIMEZONE:UTC
BEGIN:VTIMEZONE
TZID:UTC
END:VTIMEZONE
BEGIN:VEVENT
UID:63336135-6666-4635-b531-646239346230
DTSTAMP:20260420T090401Z
CATEGORIES:All Ages/Family
CLASS:PUBLIC
DESCRIPTION;ALTREP="CID:<FFFF__=0ABBE548DFE235B58f9e8a93d@coffeebean.com>":
 Come enjoy a pint of our Bock with our Certified Cicerone as he explains t
 he history and legend behind this style of beer that is synonymous with sp
 ring. Free and all ages welcome. Located in the Barrel Room
DTSTART:20260416T170000Z
DTEND:20260416T180000Z
GEO:00;0
LOCATION:The Barrel Room
ORGANIZER;CN=:mailto:info@brewhousefamily.com
SEQUENCE:1
SUMMARY:BROC Talk 'Bock'
TRANSP:OPAQUE
URL:https://twinportsnightlife.com/the-nightlife/calendar/102-broc-talk-boc
 k
END:VEVENT
END:VCALENDAR
