BEGIN:VCALENDAR
VERSION:2.0
PRODID:-//Twin Ports Nightlife//NONSGML kigkonsult.se iCalcreator 2.41.92//
CALSCALE:GREGORIAN
METHOD:PUBLISH
UID:36613432-6364-4435-b632-353038333430
X-WR-CALNAME:iCagenda
X-WR-CALDESC:Event Management Extension for Joomla!
X-WR-RELCALID:3E26604A-50F4-4449-8B3E-E4F4932D05B5
X-WR-TIMEZONE:UTC
BEGIN:VTIMEZONE
TZID:UTC
END:VTIMEZONE
BEGIN:VEVENT
UID:64643061-3831-4431-a231-613531333363
DTSTAMP:20260420T071844Z
CATEGORIES:Live Music
CLASS:PUBLIC
DESCRIPTION;ALTREP="CID:<FFFF__=0ABBE548DFE235B58f9e8a93d@coffeebean.com>":
 Come rock with us May 8th with jams brought to you by Squidlife Crisis\, C
 rimson Soul\, &amp\; Discord At Dawn \n \nDoors: 7pm · Music: 8pm\n \n$5 ·
  21+
DTSTART:20260508T200000Z
DTEND:20260508T235900Z
GEO:00;0
LOCATION:The Caddy Shack Indoor Golf & Pub
ORGANIZER;CN=:mailto:info@caddyshackduluth.com
SEQUENCE:1
SUMMARY:TCS Presents: Squidlife Crisis\, Crimson Soul\, & Discord At Dawn
TRANSP:OPAQUE
URL:https://twinportsnightlife.com/the-nightlife/calendar/103-tcs-presents-
 squidlife-crisis-crimson-soul-discord-at-dawn/2026-05-08-20-00
END:VEVENT
END:VCALENDAR
