BEGIN:VCALENDAR
VERSION:2.0
PRODID:-//Twin Ports Nightlife//NONSGML kigkonsult.se iCalcreator 2.41.92//
CALSCALE:GREGORIAN
METHOD:PUBLISH
UID:65353763-6139-4239-a331-373731343965
X-WR-CALNAME:iCagenda
X-WR-CALDESC:Event Management Extension for Joomla!
X-WR-RELCALID:3E26604A-50F4-4449-8B3E-E4F4932D05B5
X-WR-TIMEZONE:UTC
BEGIN:VTIMEZONE
TZID:UTC
END:VTIMEZONE
BEGIN:VEVENT
UID:61396632-3635-4737-b037-623565356634
DTSTAMP:20260424T144242Z
CATEGORIES:Event/Festival
CLASS:PUBLIC
DESCRIPTION;ALTREP="CID:<FFFF__=0ABBE548DFE235B58f9e8a93d@coffeebean.com>":
 Zeitgeist Minnesota Film Festival (ZMFF) returns April 22–26\, 2026\, in D
 uluth\, MN\, with in-person screenings at Zeitgeist and surrounding venues
 . The festival showcases local\, national\, and international films\, film
 maker Q&amp\;As\, industry events\, educational workshops\, and a Pitch Co
 mpetition with cash prizes. The festival focuses especially on Midwest and
  community-rooted filmmakers\, innovative storytelling\, and creative expr
 ession. Early Bird Passes are on sale NOW! Join us this Spring - where loc
 al and global stories come together at Zeitgeist.
DTSTART:20260422T160000Z
DTEND:20260426T220000Z
GEO:00;0
LOCATION:Zeitgeist Zinema
ORGANIZER;CN=:mailto:kelsey@zeitgeistarts.com
SEQUENCE:1
SUMMARY:Zeitgeist Minnesota Film Festival
TRANSP:OPAQUE
URL:https://twinportsnightlife.com/the-nightlife/calendar/45-zeitgeist-minn
 esota-film-festival-2?layout=vcal
END:VEVENT
END:VCALENDAR
