BEGIN:VCALENDAR
VERSION:2.0
PRODID:-//Twin Ports Nightlife//NONSGML kigkonsult.se iCalcreator 2.41.92//
CALSCALE:GREGORIAN
METHOD:PUBLISH
UID:30623230-3433-4163-a233-383464616531
X-WR-CALNAME:iCagenda
X-WR-CALDESC:Event Management Extension for Joomla!
X-WR-RELCALID:3E26604A-50F4-4449-8B3E-E4F4932D05B5
X-WR-TIMEZONE:UTC
BEGIN:VTIMEZONE
TZID:UTC
END:VTIMEZONE
BEGIN:VEVENT
UID:61623839-6230-4334-b738-373937663732
DTSTAMP:20260422T084245Z
CATEGORIES:Event/Festival
CLASS:PUBLIC
DESCRIPTION;ALTREP="CID:<FFFF__=0ABBE548DFE235B58f9e8a93d@coffeebean.com>":
 We’re back at The Other Place Bar after kicking off the year here\, and we
 ’re bringing it a step further. Same room\, deeper connection\, louder mom
 ents\, and the kind of night that feels bigger than the space it’s in. Ful
 l band. No shortcuts. Just songs that land and stay.\nSaturday\, April 18\
 , 20268:00 PM – 12:00 AMThe Other Place Bar • Duluth\, MN21+ (if applicabl
 e)Come out and get Indecent
DTSTART:20260418T200000Z
DTEND:20260418T200000Z
GEO:00;0
LOCATION:The Other Place Bar & Grill
ORGANIZER:
SEQUENCE:1
SUMMARY:Indecent Proposal back at The OP
TRANSP:OPAQUE
URL:https://twinportsnightlife.com/the-nightlife/calendar/92-indecent-propo
 sal-back-at-the-op
END:VEVENT
END:VCALENDAR
