BEGIN:VCALENDAR
VERSION:2.0
PRODID:-//Twin Ports Nightlife//NONSGML kigkonsult.se iCalcreator 2.41.92//
CALSCALE:GREGORIAN
METHOD:PUBLISH
UID:66643561-3830-4066-a130-336566653138
X-WR-CALNAME:iCagenda
X-WR-CALDESC:Event Management Extension for Joomla!
X-WR-RELCALID:3E26604A-50F4-4449-8B3E-E4F4932D05B5
X-WR-TIMEZONE:UTC
BEGIN:VTIMEZONE
TZID:UTC
END:VTIMEZONE
BEGIN:VEVENT
UID:35663164-6532-4234-a634-666333656133
DTSTAMP:20260420T053931Z
CATEGORIES:Event/Festival
CLASS:PUBLIC
DESCRIPTION;ALTREP="CID:<FFFF__=0ABBE548DFE235B58f9e8a93d@coffeebean.com>":
 Come join us in the Eye of the Storm for a Drag show here at TCS 🌪\nTicket
 s are $10 cash only (ATM on site)\n21+ event (ID's checked at the door)\nD
 oors: 6pm · Show: 7pm
DTSTART:20260424T190000Z
DTEND:20260424T210000Z
GEO:00;0
LOCATION:The Caddy Shack Indoor Golf & Pub
ORGANIZER;CN=:mailto:info@caddyshackduluth.com
SEQUENCE:1
SUMMARY:Coral Collective: Eye Of The Storm Drag Show
TRANSP:OPAQUE
URL:https://twinportsnightlife.com/the-nightlife/calendar/95-coral-collecti
 ve-eye-of-the-storm-drag-show/2026-04-24-19-00
END:VEVENT
END:VCALENDAR
